BEGIN:VCALENDAR
VERSION:2.0
PRODID:-//Sabre//Sabre VObject 4.5.8//EN
CALSCALE:GREGORIAN
BEGIN:VEVENT
UID:sabre-vobject-4a8cd1a2-9bc3-45b5-a5c0-59b137ec2a42
DTSTAMP:20260426T042004Z
SUMMARY:R.E.A.L. FRG Leader
DESCRIPTION:This is a 1 day course that trains FRG Leadership to set-up\, m
 aintain\, and handle the challenges within the FRG.&nbsp\; An optional 2nd
  day provides an overview of local resources available for FRG&#39\;s.\n
X-ALT-DESC:FMTTYPE=text/html:<!DOCTYPE HTML PUBLIC "-//W3C//DTD HTML 3.2//E
 N"><HTML><p>This is a 1 day course that trains FRG Leadership to set-up\, 
 maintain\, and handle the challenges within the FRG.&nbsp\; An optional 2n
 d day provides an overview of local resources available for FRG&#39\;s.</p
 >\n</HTML>
CREATED;TZID=America/Denver:20180822T111837
URL;VALUE=URI:https://carson.armymwr.com/calendar/event
DTSTART;TZID=America/Denver:20171014T090000
DTEND;TZID=America/Denver:20171014T160000
SEQUENCE:0
END:VEVENT
BEGIN:VEVENT
UID:sabre-vobject-c8e9119d-dd41-4f61-a134-bd27a1512502
DTSTAMP:20260426T042004Z
SUMMARY:R.E.A.L. FRG Leader
DESCRIPTION:This is a 1 day course that trains FRG Leadership to set-up\, m
 aintain\, and handle the challenges within the FRG.&nbsp\; An optional 2nd
  day provides an overview of local resources available for FRG&#39\;s.\n
X-ALT-DESC:FMTTYPE=text/html:<!DOCTYPE HTML PUBLIC "-//W3C//DTD HTML 3.2//E
 N"><HTML><p>This is a 1 day course that trains FRG Leadership to set-up\, 
 maintain\, and handle the challenges within the FRG.&nbsp\; An optional 2n
 d day provides an overview of local resources available for FRG&#39\;s.</p
 >\n</HTML>
CREATED;TZID=America/Denver:20180822T111837
URL;VALUE=URI:https://carson.armymwr.com/calendar/event
DTSTART;TZID=America/Denver:20180120T090000
DTEND;TZID=America/Denver:20180120T160000
SEQUENCE:1
END:VEVENT
BEGIN:VEVENT
UID:sabre-vobject-39edc671-e424-4b45-97ac-13993f7a2d33
DTSTAMP:20260426T042004Z
SUMMARY:R.E.A.L. FRG Leader
DESCRIPTION:This is a 1 day course that trains FRG Leadership to set-up\, m
 aintain\, and handle the challenges within the FRG.&nbsp\; An optional 2nd
  day provides an overview of local resources available for FRG&#39\;s.\n
X-ALT-DESC:FMTTYPE=text/html:<!DOCTYPE HTML PUBLIC "-//W3C//DTD HTML 3.2//E
 N"><HTML><p>This is a 1 day course that trains FRG Leadership to set-up\, 
 maintain\, and handle the challenges within the FRG.&nbsp\; An optional 2n
 d day provides an overview of local resources available for FRG&#39\;s.</p
 >\n</HTML>
CREATED;TZID=America/Denver:20180822T111837
URL;VALUE=URI:https://carson.armymwr.com/calendar/event
DTSTART;TZID=America/Denver:20180409T090000
DTEND;TZID=America/Denver:20180409T160000
SEQUENCE:2
END:VEVENT
BEGIN:VEVENT
UID:sabre-vobject-dece6a45-53ec-4bdb-ba40-a4ff834da10e
DTSTAMP:20260426T042004Z
SUMMARY:R.E.A.L. FRG Leader
DESCRIPTION:This is a 1 day course that trains FRG Leadership to set-up\, m
 aintain\, and handle the challenges within the FRG.&nbsp\; An optional 2nd
  day provides an overview of local resources available for FRG&#39\;s.\n
X-ALT-DESC:FMTTYPE=text/html:<!DOCTYPE HTML PUBLIC "-//W3C//DTD HTML 3.2//E
 N"><HTML><p>This is a 1 day course that trains FRG Leadership to set-up\, 
 maintain\, and handle the challenges within the FRG.&nbsp\; An optional 2n
 d day provides an overview of local resources available for FRG&#39\;s.</p
 >\n</HTML>
CREATED;TZID=America/Denver:20180822T111837
URL;VALUE=URI:https://carson.armymwr.com/calendar/event
DTSTART;TZID=America/Denver:20180721T090000
DTEND;TZID=America/Denver:20180721T160000
SEQUENCE:3
END:VEVENT
BEGIN:VEVENT
UID:sabre-vobject-5a035d38-66c4-44fe-a570-9f762b3245aa
DTSTAMP:20260426T042004Z
SUMMARY:R.E.A.L. FRG Leader
DESCRIPTION:This is a 1 day course that trains FRG Leadership to set-up\, m
 aintain\, and handle the challenges within the FRG.&nbsp\; An optional 2nd
  day provides an overview of local resources available for FRG&#39\;s.\n
X-ALT-DESC:FMTTYPE=text/html:<!DOCTYPE HTML PUBLIC "-//W3C//DTD HTML 3.2//E
 N"><HTML><p>This is a 1 day course that trains FRG Leadership to set-up\, 
 maintain\, and handle the challenges within the FRG.&nbsp\; An optional 2n
 d day provides an overview of local resources available for FRG&#39\;s.</p
 >\n</HTML>
CREATED;TZID=America/Denver:20180822T111837
URL;VALUE=URI:https://carson.armymwr.com/calendar/event
DTSTART;TZID=America/Denver:20181002T090000
DTEND;TZID=America/Denver:20181002T160000
SEQUENCE:4
END:VEVENT
END:VCALENDAR
