BEGIN:VCALENDAR
VERSION:2.0
PRODID:-//Sabre//Sabre VObject 4.5.8//EN
CALSCALE:GREGORIAN
BEGIN:VEVENT
UID:sabre-vobject-8994d1cb-aeb5-4012-9c6a-4a09aa501256
DTSTAMP:20260424T184451Z
SUMMARY:Tree Lighting Ceremony
DESCRIPTION:Join the community and kick off the holiday season at Fort Cars
 on&rsquo\;s annual Tree Lighting Ceremony.&nbsp\;\n
X-ALT-DESC:FMTTYPE=text/html:<!DOCTYPE HTML PUBLIC "-//W3C//DTD HTML 3.2//E
 N"><HTML><p>Join the community and kick off the holiday season at Fort Car
 son&rsquo\;s annual Tree Lighting Ceremony.&nbsp\;</p>\n</HTML>
CREATED;TZID=America/Denver:20181206T152646
URL;VALUE=URI:https://carson.armymwr.com/calendar/event
DTSTART;TZID=America/Denver:20181206T173000
DTEND;TZID=America/Denver:20181206T200000
SEQUENCE:0
END:VEVENT
END:VCALENDAR
