BEGIN:VCALENDAR
VERSION:2.0
PRODID:-//Sabre//Sabre VObject 4.5.8//EN
CALSCALE:GREGORIAN
BEGIN:VEVENT
UID:sabre-vobject-73dd4196-5ebe-462f-88c5-5c3ac3ff39a1
DTSTAMP:20260420T160946Z
SUMMARY:Get On The Bus Trip to Monarch Mountain
DESCRIPTION:
X-ALT-DESC:FMTTYPE=text/html:<!DOCTYPE HTML PUBLIC "-//W3C//DTD HTML 3.2//E
 N"><HTML></HTML>
CREATED;TZID=America/Denver:20181203T155907
URL;VALUE=URI:https://carson.armymwr.com/calendar/event
DTSTART;TZID=America/Denver:20190209T060000
DTEND;TZID=America/Denver:20190209T180000
SEQUENCE:0
END:VEVENT
END:VCALENDAR
