BEGIN:VCALENDAR
VERSION:2.0
PRODID:-//Sabre//Sabre VObject 4.5.8//EN
CALSCALE:GREGORIAN
BEGIN:VEVENT
UID:sabre-vobject-50010319-4a72-4fea-ac08-38e29bc94efc
DTSTAMP:20260422T140944Z
SUMMARY:Get On The Bus Trip to Monarch Mountain
DESCRIPTION:
X-ALT-DESC:FMTTYPE=text/html:<!DOCTYPE HTML PUBLIC "-//W3C//DTD HTML 3.2//E
 N"><HTML></HTML>
CREATED;TZID=America/Denver:20181203T160011
URL;VALUE=URI:https://carson.armymwr.com/calendar/event
DTSTART;TZID=America/Denver:20190126T060000
DTEND;TZID=America/Denver:20190126T180000
SEQUENCE:0
END:VEVENT
END:VCALENDAR
