BEGIN:VCALENDAR
VERSION:2.0
PRODID:-//Sabre//Sabre VObject 4.5.8//EN
CALSCALE:GREGORIAN
BEGIN:VEVENT
UID:sabre-vobject-557fe28f-8528-4877-ad6a-9ea402002a51
DTSTAMP:20260422T105748Z
SUMMARY:Ski & Soak Mountain Trip
DESCRIPTION:
X-ALT-DESC:FMTTYPE=text/html:<!DOCTYPE HTML PUBLIC "-//W3C//DTD HTML 3.2//E
 N"><HTML></HTML>
CREATED;TZID=America/Denver:20181210T132031
URL;VALUE=URI:https://carson.armymwr.com/calendar/event
DTSTART;TZID=America/Denver:20190126T060000
DTEND;TZID=America/Denver:20190126T180000
SEQUENCE:0
END:VEVENT
END:VCALENDAR
