BEGIN:VCALENDAR
VERSION:2.0
PRODID:-//Sabre//Sabre VObject 4.5.8//EN
CALSCALE:GREGORIAN
BEGIN:VEVENT
UID:sabre-vobject-9a6d7949-4ecc-47de-ad12-d659ba6e8357
DTSTAMP:20260422T195438Z
SUMMARY:Army Emergency Relief Annual Campaign
DESCRIPTION:Is Happening Now!\n
X-ALT-DESC:FMTTYPE=text/html:<!DOCTYPE HTML PUBLIC "-//W3C//DTD HTML 3.2//E
 N"><HTML><p>Is Happening Now!</p>\n</HTML>
CREATED;TZID=America/Denver:20220304T104323
URL;VALUE=URI:https://carson.armymwr.com/calendar/event
DTSTART;TZID=America/Denver:20220301T000000
DTEND;TZID=America/Denver:20220531T235959
SEQUENCE:0
END:VEVENT
END:VCALENDAR
