BEGIN:VCALENDAR
VERSION:2.0
PRODID:-//Sabre//Sabre VObject 4.5.8//EN
CALSCALE:GREGORIAN
BEGIN:VEVENT
UID:sabre-vobject-234bdf71-4a54-4037-9948-50741b3857a8
DTSTAMP:20260423T182452Z
SUMMARY:Short-and-Sweet IEP Overview
DESCRIPTION:
X-ALT-DESC:FMTTYPE=text/html:<!DOCTYPE HTML PUBLIC "-//W3C//DTD HTML 3.2//E
 N"><HTML></HTML>
CREATED;TZID=America/Denver:20240830T145118
URL;VALUE=URI:https://carson.armymwr.com/calendar/event
DTSTART;TZID=America/Denver:20240917T110000
DTEND;TZID=America/Denver:20240917T130000
SEQUENCE:0
END:VEVENT
END:VCALENDAR
