BEGIN:VCALENDAR
VERSION:2.0
PRODID:-//Sabre//Sabre VObject 4.5.8//EN
CALSCALE:GREGORIAN
BEGIN:VEVENT
UID:sabre-vobject-b86a8c3e-941c-4e24-a0e5-74a73ef52798
DTSTAMP:20260423T051102Z
SUMMARY:Coffee Conversations
DESCRIPTION:Join us on October 24\, 2024 as we host Hotel Polaris at the U.
 S. Air Force Academy and Vanguard Skin Specialists for Coffee Conversation
 s!\n\nSpeak directly to representatives from both companies about hiring o
 pportunities\, pay &amp\; compensation\, benefits\, and more! To view oppo
 rtunities\, click on each company! For questions on tailoring your resume\
 , reach out to the Employment Readiness Program.&nbsp\;\n\nHotel Polaris 9
 :30-10:30am\n\nVanguard Skin Specialists 1:30-2:30pm\n
X-ALT-DESC:FMTTYPE=text/html:<!DOCTYPE HTML PUBLIC "-//W3C//DTD HTML 3.2//E
 N"><HTML><p>Join us on October 24\, 2024 as we host <strong>Hotel Polaris 
 at the U.S. Air Force Academy</strong> and <strong>Vanguard Skin Specialis
 ts</strong> for Coffee Conversations!</p>\n\n<p>Speak directly to represen
 tatives from both companies about hiring opportunities\, pay &amp\; compen
 sation\, benefits\, and more! To view opportunities\, click on each compan
 y! For questions on tailoring your resume\, reach out to the Employment Re
 adiness Program.&nbsp\;</p>\n\n<p><a href="https://careers-coraltreehospit
 ality.icims.com/jobs/search?ss=1&amp\;searchRelation=keyword_all&amp\;sear
 chCompany=267&amp\;mobile=false&amp\;width=1400&amp\;height=500&amp\;bga=t
 rue&amp\;needsRedirect=false&amp\;jan1offset=-420&amp\;jun1offset=-360">Ho
 tel Polaris</a> 9:30-10:30am</p>\n\n<p><a href="https://www.vanguardskin.c
 om/join-us/">Vanguard Skin Specialists</a> 1:30-2:30pm</p>\n</HTML>
CREATED;TZID=America/Denver:20240913T152431
URL;VALUE=URI:https://carson.armymwr.com/calendar/event
DTSTART;TZID=America/Denver:20241024T093000
DTEND;TZID=America/Denver:20241024T143000
SEQUENCE:0
END:VEVENT
END:VCALENDAR
