BEGIN:VCALENDAR
VERSION:2.0
PRODID:-//Sabre//Sabre VObject 4.5.8//EN
CALSCALE:GREGORIAN
BEGIN:VEVENT
UID:sabre-vobject-80590d6e-dd65-4657-ab40-6b70939949b5
DTSTAMP:20260423T122125Z
SUMMARY:Fall Fest
DESCRIPTION:
X-ALT-DESC:FMTTYPE=text/html:<!DOCTYPE HTML PUBLIC "-//W3C//DTD HTML 3.2//E
 N"><HTML></HTML>
CREATED;TZID=America/Denver:20241001T091554
URL;VALUE=URI:https://carson.armymwr.com/calendar/event
DTSTART;TZID=America/Denver:20241005T120000
DTEND;TZID=America/Denver:20241005T160000
SEQUENCE:0
END:VEVENT
END:VCALENDAR
