BEGIN:VCALENDAR
VERSION:2.0
PRODID:-//Sabre//Sabre VObject 4.5.8//EN
CALSCALE:GREGORIAN
BEGIN:VEVENT
UID:sabre-vobject-e8aff12e-d3f5-462b-bde1-7df7cdf9c8bb
DTSTAMP:20260420T194839Z
SUMMARY:Intramural Pick Up Soccer
DESCRIPTION:
X-ALT-DESC:FMTTYPE=text/html:<!DOCTYPE HTML PUBLIC "-//W3C//DTD HTML 3.2//E
 N"><HTML></HTML>
CREATED;TZID=America/Denver:20250331T222917
URL;VALUE=URI:https://carson.armymwr.com/calendar/event
DTSTART;TZID=America/Denver:20241106T173000
DTEND;TZID=America/Denver:20241106T203000
SEQUENCE:0
END:VEVENT
END:VCALENDAR
